BEGIN:VCALENDAR
VERSION:2.0
PRODID:-//eventon.com NONSGML v1.0//EN
CALSCALE:GREGORIAN
METHOD:PUBLISH
BEGIN:VEVENT
UID:69ed26fd158ae
DTSTAMP:20260425T204133Z
DTSTART:20211212T100000Z
DTEND:20211212T170000Z
LOCATION:Fordingbridge Town Hall 64 High Street\,  SP6 1AX
SUMMARY:Farthest From 22: 12th December 2021
DESCRIPTION:Farthest From\,  the UK event dedicated to the Star Wars Vintag
 e Toy Collector\,  Collecting and Memorabilia. &#8220;If there&#8217;s a br
 ight center to the universe for meet up&#8217;s&#8230;this one is the plane
 t that it&#8217;s Farthest From!&#8221; Welcome to Farthest From\,  the UK 
 meet-up dedicated to the Star Wars Vintage Toy Collector.[..]\nhttps://www.
 fanthatracks.com/events/farthest-from-24-12th-december-2021/
URL:https://www.fanthatracks.com/events/farthest-from-24-12th-december-2021/
END:VEVENT
END:VCALENDAR