BEGIN:VCALENDAR
VERSION:2.0
PRODID:-//eventon.com NONSGML v1.0//EN
CALSCALE:GREGORIAN
METHOD:PUBLISH
BEGIN:VEVENT
UID:69e81e327cbfa
DTSTAMP:20260422T010242Z
DTSTART:20221001T091500Z
DTEND:20221001T150000Z
LOCATION:Kingfisher Centre\,  Redditch  43 Evesham Rd\,  Redditch B97 4HJ
SUMMARY:Echo Base Live: Episode XI: 1st October 2022
DESCRIPTION:Event by Echo Base LIVE Kingfisher Square\,  Redditch\,  B97 4\
 ,  United Kingdom Saturday 1st October 2022 from 10:00-15:00 Price: free ·
  Duration: 5 hr Early bird entry from 9.15am. The passes will be given out 
 in the queue from 8am. Passes will also be available to collect on Friday e
 vening[..]\nhttps://www.fanthatracks.com/events/echo-base-live-episode-xi-1
 st-october-2022/
URL:https://www.fanthatracks.com/events/echo-base-live-episode-xi-1st-october-2022/
END:VEVENT
END:VCALENDAR