BEGIN:VCALENDAR
VERSION:2.0
PRODID:-//eventon.com NONSGML v1.0//EN
CALSCALE:GREGORIAN
METHOD:PUBLISH
BEGIN:VEVENT
UID:69ec950f818fa
DTSTAMP:20260425T101855Z
DTSTART:20230513T093000Z
DTEND:20230514T170000Z
LOCATION:TELFORD INTERNATIONAL CENTRE
SUMMARY:Wales Comic Con: Telford Takeover: 13th - 14th May 2023
DESCRIPTION:Wales Comic Con is an event founded in Wrexham\,  North Wales. 
 The event was established in 2007 and the first event made its debut in 200
 8. Wales Comic Con has grown from strength to strength over the years and i
 n 2018 Wales Comic Con celebrated 10 years in the industry![..]\nhttps://ww
 w.fanthatracks.com/events/wales-comic-con-telford-takeover-13th-14th-may-20
 23/
URL:https://www.fanthatracks.com/events/wales-comic-con-telford-takeover-13th-14th-may-2023/
END:VEVENT
END:VCALENDAR