BEGIN:VCALENDAR
VERSION:2.0
PRODID:-//eventon.com NONSGML v1.0//EN
CALSCALE:GREGORIAN
METHOD:PUBLISH
BEGIN:VEVENT
UID:69ebee7bee7ad
DTSTAMP:20260424T222811Z
DTSTART:20230730T090000Z
DTEND:20230730T160000Z
LOCATION:Fordingbridge Town Hall 64 High Street\,  SP6 1AX
SUMMARY:Farthest From 24: 30th July 2023
DESCRIPTION:The only show in the UK that is 100% dedicated to vintage Star 
 Wars toy collecting and memorabilia is back\,  Sunday 30th of July 2023. Fo
 rdingbridge Town Hall 63 High Street Fordingbridge Hampshire SP6 1AS Early 
 Bird Entry 10am-11pm £8 per person. General Entry 11pm-3pm Adult Entry £2
 \,  Under 13[..]\nhttps://www.fanthatracks.com/events/farthest-from-24-28th
 -may-2023/
URL:https://www.fanthatracks.com/events/farthest-from-24-28th-may-2023/
END:VEVENT
END:VCALENDAR