BEGIN:VCALENDAR
VERSION:2.0
PRODID:-//eventon.com NONSGML v1.0//EN
CALSCALE:GREGORIAN
METHOD:PUBLISH
BEGIN:VEVENT
UID:69e973e6a174f
DTSTAMP:20260423T012038Z
DTSTART:20231006T190000Z
DTEND:20231006T230000Z
LOCATION:Abbey Hotel Hither Green Ln\,  Dagnell End Rd\, 
SUMMARY:Echo Base: Star Guest Dinner: 6th October 2023
DESCRIPTION:So you may think £60 is expensive for a 3 course meal\,  so le
 t’s cover what you’re getting for your ticket price… &#8211; The plea
 sure of spending time with a star up close\,  ask questions\,  share memori
 es\,  just enjoy quality time together! &#8211; Received an instant mounted
  print of yourself[..]\nhttps://www.fanthatracks.com/events/echo-base-star-
 guest-dinner-6th-october-2023/
URL:https://www.fanthatracks.com/events/echo-base-star-guest-dinner-6th-october-2023/
END:VEVENT
END:VCALENDAR