BEGIN:VCALENDAR
VERSION:2.0
PRODID:-//eventon.com NONSGML v1.0//EN
CALSCALE:GREGORIAN
METHOD:PUBLISH
BEGIN:VEVENT
UID:69e8a1aa1273e
DTSTAMP:20260422T102338Z
DTSTART:20240223T090000Z
DTEND:20240225T160000Z
LOCATION:Hotel Finse 1222 Rallarvegen 2660
SUMMARY:Hoth Strikes Back: 23rd - 25th February 2024
DESCRIPTION:For the planned return trip to Finse\,  Norway for the weekend 
 of February 23-25 with original film crew as guest speakers.\nhttps://www.f
 anthatracks.com/events/hoth-strikes-back-23rd-25th-february-2024/
URL:https://www.fanthatracks.com/events/hoth-strikes-back-23rd-25th-february-2024/
END:VEVENT
END:VCALENDAR