BEGIN:VCALENDAR
VERSION:2.0
PRODID:-//eventon.com NONSGML v1.0//EN
CALSCALE:GREGORIAN
METHOD:PUBLISH
BEGIN:VEVENT
UID:69ebea7cb3977
DTSTAMP:20260424T221108Z
DTSTART:20231125T000000Z
DTEND:20231127T010000Z
LOCATION:Moscone Center West 800 Howard St
SUMMARY:Fan Expo San Francisco: 24th - 26th November 2023
DESCRIPTION:If you&#8217;re into comics\,  sci-fi\,  horror\,  anime\,  gam
 ing\,  or cosplay\,  come share our playground. You&#8217;ll feel out of th
 is world – and right at home. Find your fandom family at FAN EXPO San Fra
 ncisco. All 35\, 000 of them. Show Hours: Friday 4 PM – 9 PM Preview Nigh
 t Saturday 10[..]\nhttps://www.fanthatracks.com/events/fan-expo-san-francis
 co-24th-26th-november-2023/
URL:https://www.fanthatracks.com/events/fan-expo-san-francisco-24th-26th-november-2023/
END:VEVENT
END:VCALENDAR