BEGIN:VCALENDAR
VERSION:2.0
PRODID:-//eventon.com NONSGML v1.0//EN
CALSCALE:GREGORIAN
METHOD:PUBLISH
BEGIN:VEVENT
UID:69eb50307da9d
DTSTAMP:20260424T111248Z
DTSTART:20240809T170000Z
DTEND:20240812T000000Z
LOCATION:Anaheim Convention Center 800 W Katella Ave
SUMMARY:D23: 9th - 11th August 2024
DESCRIPTION:More information to follow.\nhttps://www.fanthatracks.com/event
 s/d23-9th-11th-august-2024/
URL:https://www.fanthatracks.com/events/d23-9th-11th-august-2024/
END:VEVENT
END:VCALENDAR