BEGIN:VCALENDAR
VERSION:2.0
PRODID:-//eventon.com NONSGML v1.0//EN
CALSCALE:GREGORIAN
METHOD:PUBLISH
BEGIN:VEVENT
UID:69e6900edf5d8
DTSTAMP:20260420T204358Z
DTSTART:20241207T110000Z
DTEND:20241208T160000Z
LOCATION:Fordingbridge Town Hall 64 High Street\,  SP6 1AX
SUMMARY:Farthest From 26: Saturday 7th - Sunday 8th December 2024
DESCRIPTION:The only show in the UK that is 100% dedicated to vintage Star 
 Wars toy collecting and memorabilia is back\,  Saturday 7th and Sunday 8th 
 December 2024. Fordingbridge Town Hall 63 High Street Fordingbridge Hampshi
 re SP6 1AS Prices and timings TBC If you have never been before\,  what are
  you[..]\nhttps://www.fanthatracks.com/events/farthest-from-26-saturday-7th
 -december-2024/
URL:https://www.fanthatracks.com/events/farthest-from-26-saturday-7th-december-2024/
END:VEVENT
END:VCALENDAR