BEGIN:VCALENDAR
VERSION:2.0
PRODID:-//eventon.com NONSGML v1.0//EN
CALSCALE:GREGORIAN
METHOD:PUBLISH
BEGIN:VEVENT
UID:69e8008bda926
DTSTAMP:20260421T225611Z
DTSTART:20250422T010000Z
DTEND:20250422T040000Z
LOCATION:
SUMMARY:Andor: A Star Wars Story arrives on Disney Plus
DESCRIPTION:\nhttps://www.fanthatracks.com/events/andor-season-2-arrives-on
 -disney-plus/
URL:https://www.fanthatracks.com/events/andor-season-2-arrives-on-disney-plus/
END:VEVENT
END:VCALENDAR