BEGIN:VCALENDAR
VERSION:2.0
PRODID:-//eventon.com NONSGML v1.0//EN
CALSCALE:GREGORIAN
METHOD:PUBLISH
BEGIN:VEVENT
UID:69ed5f3c20537
DTSTAMP:20260426T004132Z
DTSTART:20250808T140000Z
DTEND:20250810T210000Z
LOCATION:Embassy Suites Dallas Frisco Hotel &amp; Convention Center 7600 John Q Hammons Dr Frisco\,  TX 75034
SUMMARY:Rebel Scum Con 2025: 8th - 10th August 2025
DESCRIPTION:An Out-of-This-World Lineup Awaits Rebel Scum Con 2025 is bring
 ing together an incredible array of talent from a galaxy far\,  far away. F
 rom iconic Star Wars actors to visionary creators\,  our guests are here to
  share stories\,  sign autographs\,  and create unforgettable memories. Exp
 lore the full lineup and get ready[..]\nhttps://www.fanthatracks.com/events
 /rebel-scum-con-2025-8th-10th-august-2025/
URL:https://www.fanthatracks.com/events/rebel-scum-con-2025-8th-10th-august-2025/
END:VEVENT
END:VCALENDAR