BEGIN:VCALENDAR
VERSION:2.0
PRODID:-//eventon.com NONSGML v1.0//EN
CALSCALE:GREGORIAN
METHOD:PUBLISH
BEGIN:VEVENT
UID:69e642615a90f
DTSTAMP:20260420T151233Z
DTSTART:20260711T152000Z
DTEND:20260712T152000Z
LOCATION:National Exhibition Center North Ave\,  Marston Green
SUMMARY:Comic Con Midlands (Birmingham): 11th - 12th July 2026
DESCRIPTION:On 12-13 July we ran our first ever event at NEC Birmingham\,  
 and we&#8217;re excited to announce that we will be BACK next year. We’re
  all a fan of something\,  and Comic Con Midlands is the best place to cele
 brate all things pop culture. As well as having the chance[..]\nhttps://www
 .fanthatracks.com/events/comic-con-midlands-birmingham-11th-12th-july-2026/
URL:https://www.fanthatracks.com/events/comic-con-midlands-birmingham-11th-12th-july-2026/
END:VEVENT
END:VCALENDAR