BEGIN:VCALENDAR
VERSION:2.0
PRODID:-//eventon.com NONSGML v1.0//EN
CALSCALE:GREGORIAN
METHOD:PUBLISH
BEGIN:VEVENT
UID:69eb503c8ef9c
DTSTAMP:20260424T111300Z
DTSTART:20200503T100000Z
DTEND:20200503T160000Z
LOCATION:
SUMMARY:Farthest From 22 "LIVE"
DESCRIPTION:&#8220;I&#8217;m not going anywhere!&#8221; With the world in l
 ockdown\,  it does not mean you have to miss out on what would have been F
 arthest From\,  The UK Star Wars Retro Toy Show on Sunday 3rd of May. We w
 ill instead be hosting a Facebook Live series of activities\,  panels and m
 ore via[..]\nhttps://www.fanthatracks.com/events/farthest-from-22/
URL:https://www.fanthatracks.com/events/farthest-from-22/
END:VEVENT
END:VCALENDAR