BEGIN:VCALENDAR
VERSION:2.0
PRODID:-//eventon.com NONSGML v1.0//EN
CALSCALE:GREGORIAN
METHOD:PUBLISH
BEGIN:VEVENT
UID:69eb575807fc3
DTSTAMP:20260424T114320Z
DTSTART:20200827T100000Z
DTEND:20200830T170000Z
LOCATION:Anaheim Convention Center 800 W Katella Ave
SUMMARY:Star Wars Celebration Anaheim: 27th - 30th August 2020
DESCRIPTION:Fans of all ages\,  from all over the world will come together 
 in Anaheim\,  CA U.S.A. to celebrate the cultural phenomenon that is Star W
 ars. There are exciting new movies; new television shows; new books and com
 ics\,  cosplay and collectibles to celebrate\,  while we also commemorate t
 he vast history of[..]\nhttps://www.fanthatracks.com/events/star-wars-celeb
 ration-anaheim-27th-30th-august-2020/
URL:https://www.fanthatracks.com/events/star-wars-celebration-anaheim-27th-30th-august-2020/
END:VEVENT
END:VCALENDAR