BEGIN:VCALENDAR
VERSION:2.0
PRODID:-//eventon.com NONSGML v1.0//EN
CALSCALE:GREGORIAN
METHOD:PUBLISH
BEGIN:VEVENT
UID:69eaba33850e9
DTSTAMP:20260424T003251Z
DTSTART:20201120T100000Z
DTEND:20201122T180000Z
LOCATION:Olympia London Kensington
SUMMARY:London Film and Comic Con: 20th - 22nd November 2020
DESCRIPTION:2020 will see Showmasters London Film &amp; Comic Con taking
  place at Olympia London on Friday 20th\,  Saturday 21st &amp; Sunday the 
 22nd of November 2020! London Film &amp; Comic Con promises to bring you s
 ome of your favourite stars from TV\,  Film and Comics as well as a whole h
 ost of fun activities including[..]\nhttps://www.fanthatracks.com/events/lo
 ndon-film-and-comic-con-20th-22nd-november-2020/
URL:https://www.fanthatracks.com/events/london-film-and-comic-con-20th-22nd-november-2020/
END:VEVENT
END:VCALENDAR