BEGIN:VCALENDAR
VERSION:2.0
PRODID:-//eventon.com NONSGML v1.0//EN
CALSCALE:GREGORIAN
METHOD:PUBLISH
BEGIN:VEVENT
UID:69e7b0e0a3ae6
DTSTAMP:20260421T171616Z
DTSTART:20200722
DTEND:20200723
LOCATION:
SUMMARY:Comic-Con@Home: 22nd - 26th July 2020
DESCRIPTION:With Comic-Con@Home\,  SDCC hopes to deliver the best of the Co
 mic-Con experience and a sense of its community to anyone with an internet 
 connection and an interest in all aspects of pop culture. Plans for Comic-C
 on@Home include an online Exhibit Hall complete with everyone’s favorite 
 exhibitors offering promotions\,  specials\,  and[..]\nhttps://www.fanthatr
 acks.com/events/comic-conhome-22nd-26th-july-2020/
URL:https://www.fanthatracks.com/events/comic-conhome-22nd-26th-july-2020/
END:VEVENT
END:VCALENDAR